BEGIN:VCALENDAR
VERSION:2.0
PRODID:-//El Camino al Jardín de Infancia Comienza Aquí - ECPv5.4.0.2//NONSGML v1.0//EN
CALSCALE:GREGORIAN
METHOD:PUBLISH
X-WR-CALNAME:El Camino al Jardín de Infancia Comienza Aquí
X-ORIGINAL-URL:https://ready.witf.org/?lang=es
X-WR-CALDESC:Eventos para El Camino al Jardín de Infancia Comienza Aquí
BEGIN:VTIMEZONE
TZID:America/New_York
BEGIN:DAYLIGHT
TZOFFSETFROM:-0500
TZOFFSETTO:-0400
TZNAME:EDT
DTSTART:20180311T070000
END:DAYLIGHT
BEGIN:STANDARD
TZOFFSETFROM:-0400
TZOFFSETTO:-0500
TZNAME:EST
DTSTART:20181104T060000
END:STANDARD
END:VTIMEZONE
BEGIN:VEVENT
DTSTART;TZID=America/New_York:20181006T090000
DTEND;TZID=America/New_York:20181006T110000
DTSTAMP:20210511T221611
CREATED:20180824T202342Z
LAST-MODIFIED:20180917T200506Z
UID:10383-1538816400-1538823600@ready.witf.org
SUMMARY:Ready\, Set\, Explore con Katerina Kittycat
DESCRIPTION:¡Te invitamos a unirte a WITF en el Shippensburg Recreation Center para un evento Ready Set Explore con Katerina Kittycat! \n\nEVENTOS DESTACADOS\n\nCrea artes y manualidades divertidas\nCreate cool building projects\nConoce Katerina Kittycat de Daniel Tiger’s Neighborhood\n\n\nEste es un evento familiar gratuito\, pero se requiere RSVP. \nUsuarios de iPhone y iPad: haga clic aquí para RSVP.
URL:https://ready.witf.org/event/ready-set-explore-with-katerina-kittycat/?lang=es
LOCATION:Shippensburg Recreation Center\, 533 Lancaster Drive\, Shippensburg\, PA\, 17257\, United States
CATEGORIES:Ready Set Explore
ATTACH;FMTTYPE=image/jpeg:https://ready.witf.org/wp-content/uploads/2018/08/rsekaterinaoct6.jpg
GEO:40.0635862;-77.5243325
X-APPLE-STRUCTURED-LOCATION;VALUE=URI;X-ADDRESS=Shippensburg Recreation Center 533 Lancaster Drive Shippensburg PA 17257 United States;X-APPLE-RADIUS=500;X-TITLE=533 Lancaster Drive:geo:-77.5243325,40.0635862
END:VEVENT
END:VCALENDAR